BEGIN:VCALENDAR
VERSION:2.0
PRODID:-//Northeast Region of Chi Eta Phi Sorority, Incorporated - ECPv6.15.20//NONSGML v1.0//EN
CALSCALE:GREGORIAN
METHOD:PUBLISH
X-WR-CALNAME:Northeast Region of Chi Eta Phi Sorority, Incorporated
X-ORIGINAL-URL:https://northeastregioncep.org
X-WR-CALDESC:Events for Northeast Region of Chi Eta Phi Sorority, Incorporated
REFRESH-INTERVAL;VALUE=DURATION:PT1H
X-Robots-Tag:noindex
X-PUBLISHED-TTL:PT1H
BEGIN:VTIMEZONE
TZID:America/New_York
BEGIN:DAYLIGHT
TZOFFSETFROM:-0500
TZOFFSETTO:-0400
TZNAME:EDT
DTSTART:20240310T070000
END:DAYLIGHT
BEGIN:STANDARD
TZOFFSETFROM:-0400
TZOFFSETTO:-0500
TZNAME:EST
DTSTART:20241103T060000
END:STANDARD
BEGIN:DAYLIGHT
TZOFFSETFROM:-0500
TZOFFSETTO:-0400
TZNAME:EDT
DTSTART:20250309T070000
END:DAYLIGHT
BEGIN:STANDARD
TZOFFSETFROM:-0400
TZOFFSETTO:-0500
TZNAME:EST
DTSTART:20251102T060000
END:STANDARD
BEGIN:DAYLIGHT
TZOFFSETFROM:-0500
TZOFFSETTO:-0400
TZNAME:EDT
DTSTART:20260308T070000
END:DAYLIGHT
BEGIN:STANDARD
TZOFFSETFROM:-0400
TZOFFSETTO:-0500
TZNAME:EST
DTSTART:20261101T060000
END:STANDARD
END:VTIMEZONE
BEGIN:VEVENT
DTSTART;TZID=America/New_York:20250405T080000
DTEND;TZID=America/New_York:20250405T170000
DTSTAMP:20260421T201633
CREATED:20250405T152614Z
LAST-MODIFIED:20250405T152614Z
UID:3381-1743840000-1743872400@northeastregioncep.org
SUMMARY:Building on the Legacy of Our Jewels and Supreme Basilei
DESCRIPTION:Grab some popcorn and join us for the private screening of the latest film from Mateenah Floyd-Okanlawon\, BSN\, RN\, Alpha Phi Charter Member focused on the Jewels and Supreme Basilei of Chi Eta Phi Sorority\, Inc.  \nWe welcome you to invite colleagues\, students\, friends\, family\, and others who may be interested in this work\, but please make sure they RSVP to receive the Zoom link to join.
URL:https://northeastregioncep.org/event/building-on-the-legacy-of-our-jewels-and-supreme-basilei/
LOCATION:Remote
ATTACH;FMTTYPE=image/png:https://northeastregioncep.org/wp-content/uploads/2025/04/Chi-History-Screening-Nurses-Week-2025.png
END:VEVENT
BEGIN:VEVENT
DTSTART;TZID=America/New_York:20250405T120000
DTEND;TZID=America/New_York:20250405T160000
DTSTAMP:20260421T201633
CREATED:20250310T154311Z
LAST-MODIFIED:20250310T154311Z
UID:3339-1743854400-1743868800@northeastregioncep.org
SUMMARY:Touch of Gold Celebration
DESCRIPTION:
URL:https://northeastregioncep.org/event/touch-of-gold-celebration/
LOCATION:Holiday Inn College Park
ATTACH;FMTTYPE=application/pdf:https://northeastregioncep.org/wp-content/uploads/2025/03/touch-of-gold-1.pdf
END:VEVENT
END:VCALENDAR