BEGIN:VCALENDAR
VERSION:2.0
PRODID:-//Northeast Region of Chi Eta Phi Sorority, Incorporated - ECPv6.15.20//NONSGML v1.0//EN
CALSCALE:GREGORIAN
METHOD:PUBLISH
X-WR-CALNAME:Northeast Region of Chi Eta Phi Sorority, Incorporated
X-ORIGINAL-URL:https://northeastregioncep.org
X-WR-CALDESC:Events for Northeast Region of Chi Eta Phi Sorority, Incorporated
REFRESH-INTERVAL;VALUE=DURATION:PT1H
X-Robots-Tag:noindex
X-PUBLISHED-TTL:PT1H
BEGIN:VTIMEZONE
TZID:America/New_York
BEGIN:DAYLIGHT
TZOFFSETFROM:-0500
TZOFFSETTO:-0400
TZNAME:EDT
DTSTART:20240310T070000
END:DAYLIGHT
BEGIN:STANDARD
TZOFFSETFROM:-0400
TZOFFSETTO:-0500
TZNAME:EST
DTSTART:20241103T060000
END:STANDARD
BEGIN:DAYLIGHT
TZOFFSETFROM:-0500
TZOFFSETTO:-0400
TZNAME:EDT
DTSTART:20250309T070000
END:DAYLIGHT
BEGIN:STANDARD
TZOFFSETFROM:-0400
TZOFFSETTO:-0500
TZNAME:EST
DTSTART:20251102T060000
END:STANDARD
BEGIN:DAYLIGHT
TZOFFSETFROM:-0500
TZOFFSETTO:-0400
TZNAME:EDT
DTSTART:20260308T070000
END:DAYLIGHT
BEGIN:STANDARD
TZOFFSETFROM:-0400
TZOFFSETTO:-0500
TZNAME:EST
DTSTART:20261101T060000
END:STANDARD
END:VTIMEZONE
BEGIN:VEVENT
DTSTART;TZID=America/New_York:20250426T110000
DTEND;TZID=America/New_York:20250426T150000
DTSTAMP:20260421T201556
CREATED:20250320T223453Z
LAST-MODIFIED:20250320T223453Z
UID:3364-1745665200-1745679600@northeastregioncep.org
SUMMARY:2025 Nursing Scholarship & Recognition Brunch
DESCRIPTION:Tickets are $75 and you can register here https://www.zeffy.com/en-US/ticketing/tau-eta-chapter-of-chi-eta-phi-sorority-inc-2025-scholarship-and-recognition-brunch
URL:https://northeastregioncep.org/event/2025-nursing-scholarship-recognition-brunch/
LOCATION:2020 Naamans Rd\, 2020 Naamans Road\, Wilmington\, DE\, 19810
ATTACH;FMTTYPE=image/jpeg:https://northeastregioncep.org/wp-content/uploads/2025/03/Tau-Eta-Brunch-2025-5-FINAL-FLIER-scaled.jpg
END:VEVENT
BEGIN:VEVENT
DTSTART;TZID=America/New_York:20250426T120000
DTEND;TZID=America/New_York:20250426T130000
DTSTAMP:20260421T201556
CREATED:20250131T025657Z
LAST-MODIFIED:20250131T030056Z
UID:3216-1745668800-1745672400@northeastregioncep.org
SUMMARY:Tau Chapter Charter Scholarship Luncheon
DESCRIPTION:Tau Chapter of Chi Eta Phi Sorority\, Incorporated \n  \n\nMary Louise Mercy Scholarship\nJoyce Lomax Scholarship\n\n \n \n 
URL:https://northeastregioncep.org/event/mary-louise-mercy-scholarship-awards/
LOCATION:The Landing at the Hampton Marina\, 700 Settlers Landing\, Hampton\, VA\, 23666
ATTACH;FMTTYPE=image/jpeg:https://northeastregioncep.org/wp-content/uploads/2025/01/Tau-chapter.jpeg
END:VEVENT
END:VCALENDAR