BEGIN:VCALENDAR
VERSION:2.0
PRODID:-//Northeast Region of Chi Eta Phi Sorority, Incorporated - ECPv6.15.20//NONSGML v1.0//EN
CALSCALE:GREGORIAN
METHOD:PUBLISH
X-WR-CALNAME:Northeast Region of Chi Eta Phi Sorority, Incorporated
X-ORIGINAL-URL:https://northeastregioncep.org
X-WR-CALDESC:Events for Northeast Region of Chi Eta Phi Sorority, Incorporated
REFRESH-INTERVAL;VALUE=DURATION:PT1H
X-Robots-Tag:noindex
X-PUBLISHED-TTL:PT1H
BEGIN:VTIMEZONE
TZID:America/New_York
BEGIN:DAYLIGHT
TZOFFSETFROM:-0500
TZOFFSETTO:-0400
TZNAME:EDT
DTSTART:20240310T070000
END:DAYLIGHT
BEGIN:STANDARD
TZOFFSETFROM:-0400
TZOFFSETTO:-0500
TZNAME:EST
DTSTART:20241103T060000
END:STANDARD
BEGIN:DAYLIGHT
TZOFFSETFROM:-0500
TZOFFSETTO:-0400
TZNAME:EDT
DTSTART:20250309T070000
END:DAYLIGHT
BEGIN:STANDARD
TZOFFSETFROM:-0400
TZOFFSETTO:-0500
TZNAME:EST
DTSTART:20251102T060000
END:STANDARD
BEGIN:DAYLIGHT
TZOFFSETFROM:-0500
TZOFFSETTO:-0400
TZNAME:EDT
DTSTART:20260308T070000
END:DAYLIGHT
BEGIN:STANDARD
TZOFFSETFROM:-0400
TZOFFSETTO:-0500
TZNAME:EST
DTSTART:20261101T060000
END:STANDARD
END:VTIMEZONE
BEGIN:VEVENT
DTSTART;TZID=America/New_York:20250823T130000
DTEND;TZID=America/New_York:20250823T170000
DTSTAMP:20260421T151350
CREATED:20250527T204124Z
LAST-MODIFIED:20250527T204124Z
UID:3460-1755954000-1755968400@northeastregioncep.org
SUMMARY:2025 Crab Feast Fundraiser
DESCRIPTION:Event presented by Rho Chi Chi Chapter.
URL:https://northeastregioncep.org/event/2025-crab-feast-fundraiser/
LOCATION:Baltimore Unity Hall\, 1505 Eutaw Place\, Baltimore\, MD\, 21217
ATTACH;FMTTYPE=application/pdf:https://northeastregioncep.org/wp-content/uploads/2025/05/2025-PXX-Crabfeast_Final.pdf
END:VEVENT
END:VCALENDAR