BEGIN:VCALENDAR
VERSION:2.0
PRODID:-//Northeast Region of Chi Eta Phi Sorority, Incorporated - ECPv6.15.20//NONSGML v1.0//EN
CALSCALE:GREGORIAN
METHOD:PUBLISH
X-WR-CALNAME:Northeast Region of Chi Eta Phi Sorority, Incorporated
X-ORIGINAL-URL:https://northeastregioncep.org
X-WR-CALDESC:Events for Northeast Region of Chi Eta Phi Sorority, Incorporated
REFRESH-INTERVAL;VALUE=DURATION:PT1H
X-Robots-Tag:noindex
X-PUBLISHED-TTL:PT1H
BEGIN:VTIMEZONE
TZID:America/New_York
BEGIN:DAYLIGHT
TZOFFSETFROM:-0500
TZOFFSETTO:-0400
TZNAME:EDT
DTSTART:20240310T070000
END:DAYLIGHT
BEGIN:STANDARD
TZOFFSETFROM:-0400
TZOFFSETTO:-0500
TZNAME:EST
DTSTART:20241103T060000
END:STANDARD
BEGIN:DAYLIGHT
TZOFFSETFROM:-0500
TZOFFSETTO:-0400
TZNAME:EDT
DTSTART:20250309T070000
END:DAYLIGHT
BEGIN:STANDARD
TZOFFSETFROM:-0400
TZOFFSETTO:-0500
TZNAME:EST
DTSTART:20251102T060000
END:STANDARD
BEGIN:DAYLIGHT
TZOFFSETFROM:-0500
TZOFFSETTO:-0400
TZNAME:EDT
DTSTART:20260308T070000
END:DAYLIGHT
BEGIN:STANDARD
TZOFFSETFROM:-0400
TZOFFSETTO:-0500
TZNAME:EST
DTSTART:20261101T060000
END:STANDARD
END:VTIMEZONE
BEGIN:VEVENT
DTSTART;TZID=America/New_York:20251115T190000
DTEND;TZID=America/New_York:20251115T230000
DTSTAMP:20260421T090818
CREATED:20251006T231029Z
LAST-MODIFIED:20251006T231029Z
UID:3523-1763233200-1763247600@northeastregioncep.org
SUMMARY:Annual Scholarship Gala Sneaker Ball
DESCRIPTION:ROBINSON THEATER\nCOMMUNITY ARTS CENTER\n2903 Q Street\, Richmond\, VA 23223
URL:https://northeastregioncep.org/event/annual-scholarship-gala-sneaker-ball/
ATTACH;FMTTYPE=image/png:https://northeastregioncep.org/wp-content/uploads/2025/10/ner-website.png
END:VEVENT
END:VCALENDAR