BEGIN:VCALENDAR
VERSION:2.0
PRODID:-//Northeast Region of Chi Eta Phi Sorority, Incorporated - ECPv6.15.20//NONSGML v1.0//EN
CALSCALE:GREGORIAN
METHOD:PUBLISH
X-WR-CALNAME:Northeast Region of Chi Eta Phi Sorority, Incorporated
X-ORIGINAL-URL:https://northeastregioncep.org
X-WR-CALDESC:Events for Northeast Region of Chi Eta Phi Sorority, Incorporated
REFRESH-INTERVAL;VALUE=DURATION:PT1H
X-Robots-Tag:noindex
X-PUBLISHED-TTL:PT1H
BEGIN:VTIMEZONE
TZID:America/New_York
BEGIN:DAYLIGHT
TZOFFSETFROM:-0500
TZOFFSETTO:-0400
TZNAME:EDT
DTSTART:20230312T070000
END:DAYLIGHT
BEGIN:STANDARD
TZOFFSETFROM:-0400
TZOFFSETTO:-0500
TZNAME:EST
DTSTART:20231105T060000
END:STANDARD
BEGIN:DAYLIGHT
TZOFFSETFROM:-0500
TZOFFSETTO:-0400
TZNAME:EDT
DTSTART:20240310T070000
END:DAYLIGHT
BEGIN:STANDARD
TZOFFSETFROM:-0400
TZOFFSETTO:-0500
TZNAME:EST
DTSTART:20241103T060000
END:STANDARD
BEGIN:DAYLIGHT
TZOFFSETFROM:-0500
TZOFFSETTO:-0400
TZNAME:EDT
DTSTART:20250309T070000
END:DAYLIGHT
BEGIN:STANDARD
TZOFFSETFROM:-0400
TZOFFSETTO:-0500
TZNAME:EST
DTSTART:20251102T060000
END:STANDARD
END:VTIMEZONE
BEGIN:VEVENT
DTSTART;TZID=America/New_York:20240719T080000
DTEND;TZID=America/New_York:20240719T170000
DTSTAMP:20260423T172430
CREATED:20240703T173404Z
LAST-MODIFIED:20240703T173404Z
UID:1477-1721376000-1721408400@northeastregioncep.org
SUMMARY:Test Event
DESCRIPTION:A test event on July\, 19th 2024.
URL:https://northeastregioncep.org/event/test-event/
LOCATION:Test\, NY\, GA\, United States
END:VEVENT
END:VCALENDAR